BEGIN:VCALENDAR
VERSION:2.0
PRODID:-//Satori Self Development - ECPv4.9.13//NONSGML v1.0//EN
CALSCALE:GREGORIAN
METHOD:PUBLISH
X-WR-CALNAME:Satori Self Development
X-ORIGINAL-URL:https://satorihypnosissydney.com.au
X-WR-CALDESC:Events for Satori Self Development
BEGIN:VTIMEZONE
TZID:UTC
BEGIN:STANDARD
TZOFFSETFROM:+0000
TZOFFSETTO:+0000
TZNAME:UTC
DTSTART:20170101T000000
END:STANDARD
END:VTIMEZONE
BEGIN:VEVENT
DTSTART;TZID=UTC:20171018T123000
DTEND;TZID=UTC:20171018T143000
DTSTAMP:20200302T034337
CREATED:20181010T044937Z
LAST-MODIFIED:20181029T011705Z
UID:672-1508329800-1508337000@satorihypnosissydney.com.au
SUMMARY:Mental Health & Wellbeing Forum
DESCRIPTION: \nWe are participating in the\nMental Health & Wellbeing Forum\nCome along and meet us at the forum….\nAttend some presentations on mental health & wellbeing\,\nvisit the information stalls and enjoy light afternoon tea.\nHope to see you there!!\nWednesday 18th October\, 2017\n12:30pm – 2:30pm\nNarellan Child Family and Community Centre\nQueen St\, Narellan\n
URL:https://satorihypnosissydney.com.au/event/mental-health-wellbeing-forum/
LOCATION:NSW\, Australia
END:VEVENT
END:VCALENDAR